BEGIN:VCALENDAR
VERSION:2.0
PRODID:-//Drink. Eat. Relax. - ECPv6.15.20//NONSGML v1.0//EN
CALSCALE:GREGORIAN
METHOD:PUBLISH
X-ORIGINAL-URL:https://www.drinkeatrelax.com
X-WR-CALDESC:Events for Drink. Eat. Relax.
REFRESH-INTERVAL;VALUE=DURATION:PT1H
X-Robots-Tag:noindex
X-PUBLISHED-TTL:PT1H
BEGIN:VTIMEZONE
TZID:America/New_York
BEGIN:DAYLIGHT
TZOFFSETFROM:-0500
TZOFFSETTO:-0400
TZNAME:EDT
DTSTART:20250309T070000
END:DAYLIGHT
BEGIN:STANDARD
TZOFFSETFROM:-0400
TZOFFSETTO:-0500
TZNAME:EST
DTSTART:20251102T060000
END:STANDARD
BEGIN:DAYLIGHT
TZOFFSETFROM:-0500
TZOFFSETTO:-0400
TZNAME:EDT
DTSTART:20260308T070000
END:DAYLIGHT
BEGIN:STANDARD
TZOFFSETFROM:-0400
TZOFFSETTO:-0500
TZNAME:EST
DTSTART:20261101T060000
END:STANDARD
BEGIN:DAYLIGHT
TZOFFSETFROM:-0500
TZOFFSETTO:-0400
TZNAME:EDT
DTSTART:20270314T070000
END:DAYLIGHT
BEGIN:STANDARD
TZOFFSETFROM:-0400
TZOFFSETTO:-0500
TZNAME:EST
DTSTART:20271107T060000
END:STANDARD
END:VTIMEZONE
BEGIN:VEVENT
DTSTART;TZID=America/New_York:20260314T120000
DTEND;TZID=America/New_York:20260314T180000
DTSTAMP:20260422T143034
CREATED:20250828T172040Z
LAST-MODIFIED:20260314T190609Z
UID:10000237-1773489600-1773511200@www.drinkeatrelax.com
SUMMARY:Beer\, Bourbon\, & BBQ - Wilmington\, NC
DESCRIPTION:The Coast is the Most to go HOG WILD!\nGear Up Wilmington! We are Back! The Show That SELLS OUT EVERY YEAR is going WILD!!! Get ready to enjoy all those pleasures that true Southerners live by – Beer\, Bourbon\, Barbecue\, Boots\, Bacon\, Biscuits\, Bluegrass\, and Smoked Beasts! It’s a great day of beer sippin’\, bourbon tastin’\, music listenin’\, cigar smokin’\, and barbecue eatin’. ALL RIGHT IN DOWNTOWN WILMINGTON! \nVIP Admission\n\n\n\n\n\n\n\n\n\n\n\nValid from 12pm – 6pm \nThe VIP ticket includes 2 extra hours of sampling\, a souvenir tasting glass\, unlimited sampling of beer and bourbon\, a BBQ dinner plate\, and all live entertainment. \nGeneral Admission\nValid from 2pm – 6pm \nThis GA ticket includes a souvenir tasting glass\, unlimited sampling of beer and bourbon\, and all live entertainment. \n\nEntry Only Tickets are available onsite only for $25.00.
URL:https://www.drinkeatrelax.com/event/beer-bourbon-bbq-wilmington-nc/
LOCATION:Live Oak Bank Pavilion at Riverfront Park\, 10 Cowan St.\, Wilmington\, NC\, 28401
CATEGORIES:Beer, Bourbon, and BBQ Festival
ATTACH;FMTTYPE=image/jpeg:https://www.drinkeatrelax.com/wp-content/uploads/2019/11/DER-site-Event-Listing-ImageWNC-BBQ.jpg
ORGANIZER;CN="Drink Eat Relax Events":MAILTO:team@drinkeatrelax.com
GEO:34.2484056;-77.951032
X-APPLE-STRUCTURED-LOCATION;VALUE=URI;X-ADDRESS=Live Oak Bank Pavilion at Riverfront Park 10 Cowan St. Wilmington NC 28401;X-APPLE-RADIUS=500;X-TITLE=10 Cowan St.:geo:-77.951032,34.2484056
END:VEVENT
END:VCALENDAR