BEGIN:VCALENDAR
VERSION:2.0
PRODID:-//Drink. Eat. Relax. - ECPv6.15.20//NONSGML v1.0//EN
CALSCALE:GREGORIAN
METHOD:PUBLISH
X-ORIGINAL-URL:https://www.drinkeatrelax.com
X-WR-CALDESC:Events for Drink. Eat. Relax.
REFRESH-INTERVAL;VALUE=DURATION:PT1H
X-Robots-Tag:noindex
X-PUBLISHED-TTL:PT1H
BEGIN:VTIMEZONE
TZID:America/New_York
BEGIN:DAYLIGHT
TZOFFSETFROM:-0500
TZOFFSETTO:-0400
TZNAME:EDT
DTSTART:20250309T070000
END:DAYLIGHT
BEGIN:STANDARD
TZOFFSETFROM:-0400
TZOFFSETTO:-0500
TZNAME:EST
DTSTART:20251102T060000
END:STANDARD
BEGIN:DAYLIGHT
TZOFFSETFROM:-0500
TZOFFSETTO:-0400
TZNAME:EDT
DTSTART:20260308T070000
END:DAYLIGHT
BEGIN:STANDARD
TZOFFSETFROM:-0400
TZOFFSETTO:-0500
TZNAME:EST
DTSTART:20261101T060000
END:STANDARD
BEGIN:DAYLIGHT
TZOFFSETFROM:-0500
TZOFFSETTO:-0400
TZNAME:EDT
DTSTART:20270314T070000
END:DAYLIGHT
BEGIN:STANDARD
TZOFFSETFROM:-0400
TZOFFSETTO:-0500
TZNAME:EST
DTSTART:20271107T060000
END:STANDARD
END:VTIMEZONE
BEGIN:VEVENT
DTSTART;TZID=America/New_York:20260606T120000
DTEND;TZID=America/New_York:20260606T180000
DTSTAMP:20260425T113344
CREATED:20260105T172700Z
LAST-MODIFIED:20260206T214012Z
UID:10000253-1780747200-1780768800@www.drinkeatrelax.com
SUMMARY:Beer\, Bourbon\, & BBQ - DC
DESCRIPTION:We’re BACK and going HOG WILD in DC!!\nOVER 60+ BEERS\, 40+ BOURBONS\, AND LOTS OF BARBECUE! The DMV’s BIGGEST\, BADDEST\, BONE-IN\, BBQ Fest is BACK! This 11th Annual affair is BACK offers up all those pleasures that true Southerners live by – Beer\, Bourbon\, Barbecue\, Boots\, Bacon\, Biscuits\, Bluegrass\, and Smoked Beasts! It’s a great day of beer sippin’\, bourbon tastin’\, music listenin’\, cigar smokin’\, and barbecue eatin’. Your admission buys you a sampling glass so you can enjoy an ALL-YOU-CARE-TO-TASTE sampling of beer and bourbon. \nThe 11th Annual Beer Bourbon & BBQ Festival is going to be EPIC! ……It’s a Southern Fried Good Time! Thank You DMV for a decade of outrageous fun – we are now going to set the waterfront ablaze with the BEST BBQ! It’s time for one hellacious day of beer sippin’\, bourbon tastin’\, music listenin’\, cigar smokin’\, and barbeque eatin’. Your admission buys you a sampling glass so you can enjoy an ALL-YOU-CARE-TO-TASTE sampling of beer and bourbon. \nVIP Admission\n\n\n\n\n\nValid from 12pm – 6pm \nIn addition to the all of the features above\, this session offers an exclusive tasting experience in the VIP session (12pm – 2pm) and BBQ Dinner Plate from any one participating BBQ vendor. Other benefits include 2 extra hours of unlimited alcohol sampling\, all live entertainment  & much more. These tickets are limited and always SELL OUT. \nGeneral Admission\nValid from 2pm – 6pm \nThis GA ticket includes a souvenir tasting glass\, all-you-care-to-taste sampling of beer and bourbon\, and all live entertainment. \nEntry Only tickets are sold Onsite Only for $25 on the day of the event.
URL:https://www.drinkeatrelax.com/event/beer-bourbon-bbq-dc/
LOCATION:The Stacks Lot at Audi Field\, 1880 2nd Street SW\, Washington\, DC\, 20003\, United States
CATEGORIES:Beer, Bourbon, and BBQ Festival
ATTACH;FMTTYPE=image/jpeg:https://www.drinkeatrelax.com/wp-content/uploads/2019/10/DER-site-Event-Listing-ImageATLANTA-BBBQ.jpg
ORGANIZER;CN="Drink Eat Relax Events":MAILTO:team@drinkeatrelax.com
GEO:38.866677;-77.0134
X-APPLE-STRUCTURED-LOCATION;VALUE=URI;X-ADDRESS=The Stacks Lot at Audi Field 1880 2nd Street SW Washington DC 20003 United States;X-APPLE-RADIUS=500;X-TITLE=1880 2nd Street SW:geo:-77.0134,38.866677
END:VEVENT
END:VCALENDAR