BEGIN:VCALENDAR
VERSION:2.0
PRODID:-//Drink. Eat. Relax. - ECPv6.15.20//NONSGML v1.0//EN
CALSCALE:GREGORIAN
METHOD:PUBLISH
X-WR-CALNAME:Drink. Eat. Relax.
X-ORIGINAL-URL:https://www.drinkeatrelax.com
X-WR-CALDESC:Events for Drink. Eat. Relax.
REFRESH-INTERVAL;VALUE=DURATION:PT1H
X-Robots-Tag:noindex
X-PUBLISHED-TTL:PT1H
BEGIN:VTIMEZONE
TZID:America/New_York
BEGIN:DAYLIGHT
TZOFFSETFROM:-0500
TZOFFSETTO:-0400
TZNAME:EDT
DTSTART:20240310T070000
END:DAYLIGHT
BEGIN:STANDARD
TZOFFSETFROM:-0400
TZOFFSETTO:-0500
TZNAME:EST
DTSTART:20241103T060000
END:STANDARD
BEGIN:DAYLIGHT
TZOFFSETFROM:-0500
TZOFFSETTO:-0400
TZNAME:EDT
DTSTART:20250309T070000
END:DAYLIGHT
BEGIN:STANDARD
TZOFFSETFROM:-0400
TZOFFSETTO:-0500
TZNAME:EST
DTSTART:20251102T060000
END:STANDARD
BEGIN:DAYLIGHT
TZOFFSETFROM:-0500
TZOFFSETTO:-0400
TZNAME:EDT
DTSTART:20260308T070000
END:DAYLIGHT
BEGIN:STANDARD
TZOFFSETFROM:-0400
TZOFFSETTO:-0500
TZNAME:EST
DTSTART:20261101T060000
END:STANDARD
END:VTIMEZONE
BEGIN:VEVENT
DTSTART;TZID=America/New_York:20250517T120000
DTEND;TZID=America/New_York:20250517T180000
DTSTAMP:20260425T113316
CREATED:20241015T150919Z
LAST-MODIFIED:20250108T182355Z
UID:10000218-1747483200-1747504800@www.drinkeatrelax.com
SUMMARY:Beer\, Bourbon\, & BBQ - Charlotte
DESCRIPTION:Queen City is Smokin’ with GRILLS GONE WILD!\nThis 18th Annual affair offers up all those pleasures that true Southerners live by – Beer\, Bourbon\, Barbecue\, Boots\, Bacon\, Biscuits\, Bluegrass\, and Smoked Beasts! It’s a great day of beer sippin’\, bourbon tastin’\, music listenin’\, cigar smokin’\, and barbecue eatin’. Your admission buys you a sampling glass so you can enjoy an ALL-YOU-CARE-TO-TASTE sampling of beer and bourbon. \nUnleash Your Beast……. with OVER 60+ BEERS\, 40+ BOURBONS\, AND LOTS OF BARBECUE!\nNEW BEAST MODE CABANAS.  DO you have a group of friends who are the LIFE of the PARTY – bring it!!!  This package is VERY EXCLUSIVE & LIMITED and Offers you – your own oasis at the show. \n\nEach Guest Receives a Souvenir Glass to enjoy All You Care To Taste Beer and Bourbon Tastings as you stroll from table to table.\nThe SHRINE OF SWINE is back! Enjoy whole hogs during each session. Pork worship at its finest!\nBBQ Galore! Enjoy the great barbeque selection from our vendors onsite – pulled pork from whole hogs\, ribs\, brisket\, chickens\, sausages and all the fixins’ you can imagine. We’ll keep the portions heavy and the prices low.\nEnjoy seminars in the Tasting Theater with Master Distillers\, Brewmasters\, and Pit Masters from the deep South.\nGAME IT: The Cochon Carnival is loaded with fun activities and games to keep everyone challenged. Connect four\, giant jenga\, cornhole\, and so much more…\nDANCE: Listen To Live Rock & Blues Music on The Main Stage.\nSHOP: Browse Cool Exhibits of Brewerania\, Hot sauces\, BBQ accessories\, Cigars\, and more!\n\nBeast Mode Private Cabana\nValid from 12pm – 6pm \nThe BEAST MODE PRIVATE CABANA offers an exclusive\, private party experience for up to 10 guests! Each Cabana enjoys all of the benefits outlined\, with a private 10×10 tent with tables and chairs\, 1 bottle of Bourbon  and 1 case of beer (which must stay in the cabana)\, 10 extra BBQ Dinner Tickets to share\, bottled water\, and VIP tickets for 10 guests to include 2 extra hours of tastings\,  a souvenir glass and bag\, all live entertainment\, and some surprises. Limited to 8 Cabanas only! \nVIP Admission\n\n\n\n\n\nValid from 12pm – 6pm \nThe VIP ticket includes 6 hours of sampling\, a souvenir tasting glass\, unlimited sampling of beer and bourbon\, a BBQ dinner plate\, VIP exclusive open-flame meat and specialty beverage sampling\, and live entertainment. These tickets are limited and always SELL OUT. \nGeneral Admission\nValid from 2pm – 6pm \nThis GA ticket includes a souvenir tasting glass\, unlimited sampling of beer and bourbon\, and all live entertainment. \nDesignated Driver tickets are sold Onsite Only for $25 on the day of the event. 
URL:https://www.drinkeatrelax.com/event/beer-bourbon-bbq-charlotte/
LOCATION:Ballantyne’s Backyard\, 11611 N Community House Rd\, Charlotte\, NC\, 28277\, United States
CATEGORIES:Beer, Bourbon, and BBQ Festival
ATTACH;FMTTYPE=image/jpeg:https://www.drinkeatrelax.com/wp-content/uploads/2019/11/DER-site-Event-Listing-ImageCLT-bbq.jpg
ORGANIZER;CN="Drink Eat Relax Events":MAILTO:team@drinkeatrelax.com
GEO:35.0602824;-80.8390763
X-APPLE-STRUCTURED-LOCATION;VALUE=URI;X-ADDRESS=Ballantyne’s Backyard 11611 N Community House Rd Charlotte NC 28277 United States;X-APPLE-RADIUS=500;X-TITLE=11611 N Community House Rd:geo:-80.8390763,35.0602824
END:VEVENT
BEGIN:VEVENT
DTSTART;TZID=America/New_York:20250503T120000
DTEND;TZID=America/New_York:20250503T180000
DTSTAMP:20260425T113316
CREATED:20241015T145702Z
LAST-MODIFIED:20250501T134409Z
UID:10000217-1746273600-1746295200@www.drinkeatrelax.com
SUMMARY:Beer\, Bourbon\, & BBQ - NOVA
DESCRIPTION:Northern Virginia is Smokin’ for…GRILLS GONE WILD!\nNorthern Virginia’s BIGGEST\, BADDEST\, BONE-IN\, BBQ Fest is HERE! This 4th Annual affair offers up all those pleasures that true Southerners live by – Beer\, Bourbon\, Barbecue\, Boots\, Bacon\, Biscuits\, Bluegrass\, and Smoked Beasts! It’s a great day of beer sippin’\, bourbon tastin’\, music listenin’\, cigar smokin’\, and barbecue eatin’. Your admission buys you a sampling glass so you can enjoy an ALL-YOU-CARE-TO-TASTE sampling of beer and bourbon.\nUnleash Your Beast……. with OVER 60+ BEERS\, 40+ BOURBONS\, AND LOTS OF BARBECUE!\nNEW BEAST MODE CABANAS.  DO you have a group of friends who are the LIFE of the PARTY – bring it!!!  This package is VERY EXCLUSIVE & LIMITED and Offers you – your own oasis at the show. \n\nEach Guest Receives a Souvenir Glass to enjoy All You Care To Taste Beer and Bourbon Tastings as you stroll from table to table.\nThe SHRINE OF SWINE is back! Enjoy whole hogs during each session. Pork worship at its finest!\nBBQ Galore! Enjoy the great barbeque selection from our vendors onsite – pulled pork from whole hogs\, ribs\, brisket\, chickens\, sausages and all the fixins’ you can imagine. We’ll keep the portions heavy and the prices low.\nEnjoy seminars in the Tasting Theater with Master Distillers\, Brewmasters\, and Pit Masters from the deep South.\nGAME IT: The Cochon Carnival is loaded with fun activities and games to keep everyone challenged. Connect four\, giant jenga\, cornhole\, and so much more…\nDANCE: Listen To Live Rock & Blues Music on The Main Stage.\nSHOP: Browse Cool Exhibits of Brewerania\, Hot sauces\, BBQ accessories\, Cigars\, and more!\n\nBeast Mode Private Cabana\nValid from 12pm – 6pm \nThe BEAST MODE PRIVATE CABANA offers an exclusive\, private party experience for up to 10 guests! Each Cabana enjoys all of the benefits outlined\, with a private 10×10 tent with tables and chairs\, 1 bottle of Bourbon  and 1 case of beer (which must stay in the cabana)\, 10 extra BBQ Dinner Tickets to share\, bottled water\, and VIP tickets for 10 guests to include 2 extra hours of tastings\,  a souvenir glass and bag\, all live entertainment\, and some surprises. Limited to 8 Cabanas only! \nVIP Admission\n\n\n\n\n\nValid from 12pm – 6pm \nThe VIP ticket includes 6 hours of sampling\, a souvenir tasting glass\, all-you-care-to-taste sampling of beer and bourbon\, a BBQ dinner plate\, VIP exclusive open-flame meat and specialty beverage sampling\, special VIP Lounge Area (VIP Area closes at 5pm) and VIP Washroom and live entertainment. These tickets are limited and always SELL OUT. \nGeneral Admission\nValid from 2pm – 6pm \nThis GA ticket includes a souvenir tasting glass\, all-you-care-to-taste sampling of beer and bourbon\, and all live entertainment. \nDesignated Driver tickets are sold Onsite Only for $25 on the day of the event. 
URL:https://www.drinkeatrelax.com/event/beer-bourbon-bbq-nova/
LOCATION:Private: Prince William County Fairgrounds\, 10624 Dumfries Rd\, Manassas\, 20112\, United States
CATEGORIES:Beer, Bourbon, and BBQ Festival
ATTACH;FMTTYPE=image/jpeg:https://www.drinkeatrelax.com/wp-content/uploads/2019/11/DER-site-Event-Listing-Imagelees-bbq.jpg
ORGANIZER;CN="Drink Eat Relax Events":MAILTO:team@drinkeatrelax.com
GEO:38.7246981;-77.4742227
X-APPLE-STRUCTURED-LOCATION;VALUE=URI;X-ADDRESS=Private: Prince William County Fairgrounds 10624 Dumfries Rd Manassas 20112 United States;X-APPLE-RADIUS=500;X-TITLE=10624 Dumfries Rd:geo:-77.4742227,38.7246981
END:VEVENT
BEGIN:VEVENT
DTSTART;TZID=America/New_York:20250426T120000
DTEND;TZID=America/New_York:20250426T170000
DTSTAMP:20260425T113316
CREATED:20241015T160249Z
LAST-MODIFIED:20250422T204645Z
UID:10000222-1745668800-1745686800@www.drinkeatrelax.com
SUMMARY:Tacos 'n' Taps - Timonium
DESCRIPTION:Get ready to put on your party sombrero for a Fiesta Grande! The Tacos N Taps Festival will take you south of the border for some foodie fun!\nThis ALL YOU CARE TO TASTE Beer and Tequila Festival offers up some of the Baltimore’s Best Tacos and Mexican Food\, the best dancing music from local favorite Bands\, margaritas\, contests and some other surprises. This is NACHO average taco festival.\nAll Guests will Enjoy: \n\n\nSouvenir Glass for an ALL YOU CARE TO TASTE experience with over 60+ craft beers\, mezcals\, margaritas\, and tequilas. We’ll throw in some ciders and wine as well… just for the gringos.\nALL TEQUILA & MEZCAL Bars will be chilled.\nThe festival will feature over 10+ Taco Trucks\, Taquerias\, and Mexican Restaurants with Over 30 different types of tacos. Each taco vendor will offer a wide variety of tacos and Mexican inspired dishes available. We guarantee they will ALL feature at least one taco option for $3. Most All of the Food Trucks\, Taquerias\, and Restaurants will accept TACO TICKETS\, but also cash and credit card – so you are not limited with your food experience. You can have tacos or anything else on the menu!\n\nDueling Margarita Bars with more choices.\nMariachi Bands and and Live Music will make your day Super Spicy!!\nGreat boutiques offering brewerania\, jewelry\, hot sauces and other items.\nHot Pepper Eating Contest\nLawn activities and games will keep you focused when you are not imbibing.\n\n\nGolden Taco Private Cabana\nValid Noon- 5pm \nThe GOLDEN TACO PRIVATE CABANA offers an exclusive\, private fiesta experience for up to 10 guests! Each Cabana enjoys all of the benefits outlined\, with a private 10×10 tent with tables and chairs\, your own private kiddie pool (so bring your swimsuit!)\, 1 bottle of Tequila and 1 case of beer (which must stay in the cabana)\, 20 extra Taco Tickets to share\, bottled water\, and VIP tickets for 10 guests to include 1 extra hour of tastings\, four taco tickets\, a souvenir glass and sombrero\, all live entertainment\, and some surprises. \nLimited to 8 Cabanas only! \nVIP Super Muy Taco Ticket\nValid Noon-5pm \nThe SUPER MUY TACO SESSION offers an exclusive tasting experience. Each guest enjoys all of the benefits outlined\, with 1 extra hour of tastings\, four taco tickets\, a souvenir glass and sombrero\, limited admission\, all live entertainment\, and some surprises. \nGeneral Admission Drinky Ticket \nValid 1pm-5pm \nYour admission includes a souvenir glass and boundless portions of over 60 craft beers\, mezcals\, and tequilas\, and all live entertainment! You can purchase food a la carte. \nTaco Only Ticket\nValid 1pm-5pm \nAvailable onsite only. Each guest enjoys all live entertainment and four taco sampling tickets. \n**MOVED INDOORS TO THE COW PALACE**
URL:https://www.drinkeatrelax.com/event/tacos-n-taps-timonium-2/
LOCATION:The Cow Palace at MD State Fairgrounds\, 2200 York Rd\, Lutherville-Timonium\, MD\, 21093\, United States
CATEGORIES:Tacos N Taps Festival
ATTACH;FMTTYPE=image/jpeg:https://www.drinkeatrelax.com/wp-content/uploads/2019/11/DER-site-Event-Listing-Imagetaco-bmore.jpg
ORGANIZER;CN="Drink Eat Relax Events":MAILTO:team@drinkeatrelax.com
GEO:39.4431994;-76.6313495
X-APPLE-STRUCTURED-LOCATION;VALUE=URI;X-ADDRESS=The Cow Palace at MD State Fairgrounds 2200 York Rd Lutherville-Timonium MD 21093 United States;X-APPLE-RADIUS=500;X-TITLE=2200 York Rd:geo:-76.6313495,39.4431994
END:VEVENT
END:VCALENDAR