BEGIN:VCALENDAR
VERSION:2.0
PRODID:-//Drink. Eat. Relax. - ECPv6.15.20//NONSGML v1.0//EN
CALSCALE:GREGORIAN
METHOD:PUBLISH
X-ORIGINAL-URL:https://www.drinkeatrelax.com
X-WR-CALDESC:Events for Drink. Eat. Relax.
REFRESH-INTERVAL;VALUE=DURATION:PT1H
X-Robots-Tag:noindex
X-PUBLISHED-TTL:PT1H
BEGIN:VTIMEZONE
TZID:America/New_York
BEGIN:DAYLIGHT
TZOFFSETFROM:-0500
TZOFFSETTO:-0400
TZNAME:EDT
DTSTART:20250309T070000
END:DAYLIGHT
BEGIN:STANDARD
TZOFFSETFROM:-0400
TZOFFSETTO:-0500
TZNAME:EST
DTSTART:20251102T060000
END:STANDARD
BEGIN:DAYLIGHT
TZOFFSETFROM:-0500
TZOFFSETTO:-0400
TZNAME:EDT
DTSTART:20260308T070000
END:DAYLIGHT
BEGIN:STANDARD
TZOFFSETFROM:-0400
TZOFFSETTO:-0500
TZNAME:EST
DTSTART:20261101T060000
END:STANDARD
BEGIN:DAYLIGHT
TZOFFSETFROM:-0500
TZOFFSETTO:-0400
TZNAME:EDT
DTSTART:20270314T070000
END:DAYLIGHT
BEGIN:STANDARD
TZOFFSETFROM:-0400
TZOFFSETTO:-0500
TZNAME:EST
DTSTART:20271107T060000
END:STANDARD
END:VTIMEZONE
BEGIN:VEVENT
DTSTART;TZID=America/New_York:20260829T120000
DTEND;TZID=America/New_York:20260829T180000
DTSTAMP:20260425T100030
CREATED:20250925T171737Z
LAST-MODIFIED:20260203T165111Z
UID:10000242-1788004800-1788026400@www.drinkeatrelax.com
SUMMARY:Beer\, Bourbon\, & BBQ - Winston-Salem\, NC
DESCRIPTION:Winston-Salem is the Spot for to GO HOG WILD!\nGet ready Winston-Salem! We are bringing the East Coast’s Favorite BBQ festival to the Twin City for the 2nd Big Year\, and we are going WILD!!! \nTHE BIGGEST\, BADDEST\, BONE-IN\, BBQ Fest is Coming At You!!! This flavorful affair offers up all those pleasures that true Southerners live by – Beer\, Bourbon\, Barbecue\, Boots\, Bacon\, Biscuits\, Bluegrass\, and Smoked Beasts! It’s a great day of beer sippin’\, bourbon tastin’\, music listenin’\, cigar smokin’\, and barbecue eatin’. Your admission buys you a sampling glass so you can enjoy an ALL-YOU-CARE-TO-TASTE sampling of beer and bourbon. \n\nEach Guest Receives a Souvenir Glass to enjoy All You Care To Taste Beer and Bourbon Tastings as you stroll from table to table.\nThe SHRINE OF SWINE is back! Enjoy whole hogs during each session. Pork worship at its finest!\nBBQ Galore! Enjoy the great barbeque selection from our vendors onsite – pulled pork from whole hogs\, ribs\, brisket\, chickens\, sausages and all the fixins’ you can imagine. We’ll keep the portions heavy and the prices low.\nEnjoy seminars in the Tasting Theater with Master Distillers\, Brewmasters\, and Pit Masters from the deep South.\nGAME IT: The Cochon Carnival is loaded with fun activities and games to keep everyone challenged. Connect four\, giant jenga\, cornhole\, and so much more…\nDANCE: Listen To Live Rock & Blues Music on The Main Stage.\nSHOP: Browse Cool Exhibits of Brewerania\, Hot sauces\, BBQ accessories\, Cigars\, and more!\n\n…and a few surprises! \nVIP Admission\n\n\n\n\n\n\n\n\n\n\n\nValid from 12pm – 6pm \nThe VIP ticket includes 2 extra hours of sampling\, a souvenir tasting glass\, unlimited sampling of beer and bourbon\, a BBQ dinner plate\, and all live entertainment. \nGeneral Admission\nValid from 2pm – 6pm \nThis GA ticket includes a souvenir tasting glass\, unlimited sampling of beer and bourbon\, and all live entertainment. \n\nEntry Only Tickets are available onsite only for $25.00.
URL:https://www.drinkeatrelax.com/event/beer-bourbon-bbq-winston-salem-nc/
LOCATION:Winston-Salem Fairgrounds\, 596 Fairgrounds Blvd\, Gate 7\, Winston-Salem\, NC\, 27105\, United States
CATEGORIES:& BBQ - Winston-Salem,Beer, Bourbon, and BBQ Festival
ATTACH;FMTTYPE=image/jpeg:https://www.drinkeatrelax.com/wp-content/uploads/2019/11/DER-site-Event-Listing-Imagelees-bbq-1.jpg
ORGANIZER;CN="Drink Eat Relax Events":MAILTO:team@drinkeatrelax.com
GEO:36.1268815;-80.2538448
X-APPLE-STRUCTURED-LOCATION;VALUE=URI;X-ADDRESS=Winston-Salem Fairgrounds 596 Fairgrounds Blvd Gate 7 Winston-Salem NC 27105 United States;X-APPLE-RADIUS=500;X-TITLE=596 Fairgrounds Blvd\, Gate 7:geo:-80.2538448,36.1268815
END:VEVENT
BEGIN:VEVENT
DTSTART;TZID=America/New_York:20260912T160000
DTEND;TZID=America/New_York:20260912T210000
DTSTAMP:20260425T100030
CREATED:20250925T193647Z
LAST-MODIFIED:20260109T154230Z
UID:10000252-1789228800-1789246800@www.drinkeatrelax.com
SUMMARY:Whiskey\, Wine\, & Fire - Cary
DESCRIPTION:An Elegant Evening in the Pines\nThis exclusive foodie celebration will feature: Whiskey Bars\, Elegant Wines & Cocktails\, Great Music\, Tented Food Stations\, Food Trucks\, & Restaurants and Intimate Firepits throughout. Relax Around the Fire Gardens and enjoy an inspired take on fire-kissed BBQ\, specialty grilling\, and drink pairings. Enjoy the firebreathers and artists set the night ablaze. Please dress appropriately\, the event is outdoors. \nSaturday Twilight VIP Admission\nValid Saturday 4pm – 9pm \nThis Twilight VIP ticket includes a souvenir tasting glass with all-you-care-to-taste sampling of whiskey\, wine\, and other beverages\, early entry into the event with one extra hour of tastings\, a Passport of 4 Tastes from the open-fire Grilling/Meat Stations (all other foods are a la carte)\, and all live entertainment. **This is Limited to the First 400 Guests** \nSaturday General Admission\nValid Saturday 5pm – 9pm \nThis General Admission ticket includes a souvenir tasting glass with all-you-care-to-taste sampling of whiskey\, wine\, and other beverages\, and all live entertainment. All food is a la carte. \nEntry Only tickets are sold Onsite Only for $25 on the day of the event. \n\n 
URL:https://www.drinkeatrelax.com/event/whiskey-wine-fire-cary-2/
LOCATION:Koka Booth Amphitheatre\, 8003 Regency Pkwy\, Cary\, NC\, 27518\, United States
CATEGORIES:Whiskey Wine & Fire
ATTACH;FMTTYPE=image/jpeg:https://www.drinkeatrelax.com/wp-content/uploads/2021/12/event-header-3.jpg
ORGANIZER;CN="Drink Eat Relax Events":MAILTO:team@drinkeatrelax.com
GEO:35.7292643;-78.7963388
X-APPLE-STRUCTURED-LOCATION;VALUE=URI;X-ADDRESS=Koka Booth Amphitheatre 8003 Regency Pkwy Cary NC 27518 United States;X-APPLE-RADIUS=500;X-TITLE=8003 Regency Pkwy:geo:-78.7963388,35.7292643
END:VEVENT
BEGIN:VEVENT
DTSTART;TZID=America/New_York:20260926T120000
DTEND;TZID=America/New_York:20260926T170000
DTSTAMP:20260425T100030
CREATED:20250925T184210Z
LAST-MODIFIED:20260109T155517Z
UID:10000247-1790424000-1790442000@www.drinkeatrelax.com
SUMMARY:Wine & Food Festival - Charlotte Ballantyne
DESCRIPTION:The Wine + Food Festival At Ballantyne.\nCome to a world-class\, backyard culinary event; bringing together Charlotte’s hottest chefs\, artisanal craftsmen\, and culinary pioneers with thousands of Charlotte’s foodies. Enjoy over 100 different international and local wines\, craft beers\, and craft spirits in an all-you-care-to-taste affair. The title says wine but don’t worry\, there are all types of adult beverages offered\, sampled\, and compared. Come and let your taste buds be amazed at this delicious culinary experience. The Wines are Fine\, just served in a fun environment…\nWhat’s on the Vine? \n\nALL YOU CARE TO TASTE Program with 100+ International Wines\, Beer\, and Spirits in your Souvenir glass.\nGreat food available to buy from some of Charlotte’s Pop-Ups\, Restaurants and Food Trucks.\nGreat LIVE MUSIC selection with bands to keep you dancing through the day.\nPick Some New Favorites in the Rose’ Garden\nEnjoy The Sensory Station\nAnd a few Surprises……\n\nSpecial VIP Experience Includes:\n\nAccess to the VIP Champagne Lounge\nA bottle of wine and wine bag\nAn extra hour of sampling\nFREE water & VIP washrooms\n\nSUN & SIP PRIVATE CABANA\nValid 12pm – 5pm \nThe SUN & SIP PRIVATE CABANA offers an exclusive\, private area experience for up to 10 guests! Each Cabana enjoys all of the VIP benefits outlined\, with a private 10×10 tent with tables and chairs\, your own private kiddie pool (so bring your swimsuit!)\, 5 extra bottles of wine from our private selection to share\, bottled water\, and VIP tickets for 10 guests to include 1 extra hour of tastings\, a souvenir glass\, bottle of wine & wine bag\, all live entertainment\, and some surprises. \nVIP ADMISSION\nValid 12pm – 5pm \nTicket prices increase on-site. Includes all-you-care-to-taste wines\, beers\, & spirits\, a souvenir wine glass & wine bag\, a bottle of wine\, free bottled water\, access to VIP Champagne Lounge and Washrooms\, entrance to the event 1 hour early in an exclusive session\, plus all performances. \nGENERAL ADMISSION\nValid 1pm – 5pm \nTicket prices increase on-site. Includes a souvenir wine glass\, unlimited alcohol samples\, all performances. \nEntry Only tickets are sold Onsite Only for $25 on the day of the event.
URL:https://www.drinkeatrelax.com/event/wine-food-festival-charlotte-ballantyne-2/
LOCATION:Ballantyne’s Backyard\, 11611 N Community House Rd\, Charlotte\, NC\, 28277\, United States
CATEGORIES:Wine & Food Festival
ATTACH;FMTTYPE=image/png:https://www.drinkeatrelax.com/wp-content/uploads/2019/12/Artboard-1nova-event-i-1.png
ORGANIZER;CN="Drink Eat Relax Events":MAILTO:team@drinkeatrelax.com
GEO:35.0602824;-80.8390763
X-APPLE-STRUCTURED-LOCATION;VALUE=URI;X-ADDRESS=Ballantyne’s Backyard 11611 N Community House Rd Charlotte NC 28277 United States;X-APPLE-RADIUS=500;X-TITLE=11611 N Community House Rd:geo:-80.8390763,35.0602824
END:VEVENT
BEGIN:VEVENT
DTSTART;TZID=America/New_York:20261003T120000
DTEND;TZID=America/New_York:20261003T170000
DTSTAMP:20260425T100030
CREATED:20250723T164104Z
LAST-MODIFIED:20260418T170318Z
UID:10000234-1791028800-1791046800@www.drinkeatrelax.com
SUMMARY:Tacos 'n' Taps - DC
DESCRIPTION:Get ready to put on your party sombrero for a Fiesta Grande! The DC Tacos N Taps Festival is Back and ready to take you south of the border for some foodie fun!\nThis ALL YOU CARE TO TASTE Beer and Tequila Festival offers up some of the Queen City’s Best Tacos and Mexican Food\, the best dancing music from local favorite Bands\, margaritas\, contests and some other surprises. This is NACHO average taco festival.\nAll Guests will Enjoy: \n\n\nSouvenir Glass for an ALL YOU CARE TO TASTE experience with over 60+ craft beers\, mezcals\, margaritas\, and tequilas. We’ll throw in some ciders and wine as well… just for the gringos.\nALL TEQUILA & MEZCAL Bars will be chilled.\nThe festival will feature over 10+ Taco Trucks\, Taquerias\, and Mexican Restaurants with Over 30 different types of tacos\, burritos\, salsas\, sides\, and more! Each taco vendor will offer a wide variety of tacos and Mexican inspired dishes available. We guarantee they will ALL feature at least one taco option for $3. Most All of the Food Trucks\, Taquerias\, and Restaurants will accept TACO TICKETS\, but also cash and credit card – so you are not limited with your food experience. You can have tacos or anything else on the menu!\n\nDueling Margarita Bars with more choices.\nMariachi Bands and and Live Music will make your day Super Spicy!!\nGreat boutiques offering brewerania\, jewelry\, hot sauces and other items.\nHot Pepper Eating Contest\nLawn activities and games will keep you focused when you are not imbibing.\n\n\nVIP Super Muy Taco Ticket\nValid Noon-5pm \nThe SUPER MUY TACO SESSION offers an exclusive tasting experience. Each guest enjoys all of the benefits outlined\, with 1 extra hour of tastings\, three taco tickets\, a souvenir cup\, limited admission\, all live entertainment\, and some surprises. \nGeneral Admission Drinky Ticket \nValid 1pm-5pm \nYour admission includes a souvenir cup and boundless portions of over 60 craft beers\, mezcals\, and tequilas\, and all live entertainment! You can purchase food a la carte. \nTaco Only Ticket\nValid 1pm-5pm \nAvailable onsite only. Each guest enjoys all live entertainment and four taco sampling tickets.
URL:https://www.drinkeatrelax.com/event/tacos-n-taps-dc/
LOCATION:The Stacks Lot at Audi Field\, 1880 2nd Street SW\, Washington\, DC\, 20003\, United States
CATEGORIES:Tacos N Taps Festival
ATTACH;FMTTYPE=image/jpeg:https://www.drinkeatrelax.com/wp-content/uploads/2019/11/DER-site-Event-Listing-Imageharbor-pt.jpg
ORGANIZER;CN="Drink Eat Relax Events":MAILTO:team@drinkeatrelax.com
GEO:38.866677;-77.0134
X-APPLE-STRUCTURED-LOCATION;VALUE=URI;X-ADDRESS=The Stacks Lot at Audi Field 1880 2nd Street SW Washington DC 20003 United States;X-APPLE-RADIUS=500;X-TITLE=1880 2nd Street SW:geo:-77.0134,38.866677
END:VEVENT
BEGIN:VEVENT
DTSTART;TZID=America/New_York:20261010T120000
DTEND;TZID=America/New_York:20261010T170000
DTSTAMP:20260425T100030
CREATED:20250925T192620Z
LAST-MODIFIED:20260211T180201Z
UID:10000251-1791633600-1791651600@www.drinkeatrelax.com
SUMMARY:Das Best Oktoberfest - Timonium
DESCRIPTION:GET YOUR OOMPAH ON!\n \nBIER IST WUNDERBAR!…and so are you! Come enjoy Maryland’s oldest running craft beer festival at the TIMONIUM FAIRGROUNDS! Hundreds and Hundreds of ALL-YOU-CARE-TO-TASTE craft beers\, wines\, ciders\, and schnapps will fill up your souvenir glass as you enjoy this day-long festival in the infield. \n\nGet Ready for DAS VERRÜCKT OLYMPIADE! We’ve built a Sports Stadium inside the show so you can participate in Stein Holding! Fingerhakeln! Tug-of-War! The Carry-Your-Wife Competition! BE THE WELTMEISTER! Win great prizes like THE WURST trophy ever.\nGreat Centralized Location: the Timonium Fairgrounds. Directly on the light rail or use the totally FREE parking. Get ready to have an UBER GOOD time!\nALL YOU CARE TO TASTE OVER 80 INTERNATIONAL\, DOMESTIC\, AND LOCAL MARYLAND BEERS\, DOMESTIC WINES and SCHNAPPS. All of your favorite craft beers and perfectly paired wines will be served to highlight the great Beer Hall theme.\nOOMPAH BANDS and LIVE MUSIC. There will be 2 STAGES. Listen to Live Rock & Party Music on the Main Stage and enjoy Authentic Oompah Bands on the Oompah Stage.\nVIP Ticket Experience. This option offers guests 1 extra hour of drinking\, a reduced crowd\, and a LARGER 16 ounce Souvenir PINT GLASS.\nSHOP. Browse Cool Art Exhibits and Craft Exhibits\, Brewerania\, Beer Accessories\, Cigars\, and more!\nGREAT FOOD. There will be several brat concessionaires who will be offering the best sausages and German food along with food trucks and your festival faves! Enjoy all your favorites! Food will be purchased a la carte.\n\nVIP Admission \nValid 12 pm – 5 pm \nThe VIP ticket includes a Larger Souvenir Glass for All You Care To Taste Beers\, Wines & Spirits\, VIP washrooms\, 1 EXTRA HOUR of sampling\, and all live entertainment. \nGeneral Admission\nValid 1pm – 5pm \nThe General Admission ticket includes a Souvenir tasting glass\, UNLIMITED ALL YOU CARE TO TASTE Beers\, Wines & Spirits sampling\, and all live entertainment. \nDesignated Driver Tickets are available onsite only for $25.00.
URL:https://www.drinkeatrelax.com/event/das-best-oktoberfest-timonium-3/
LOCATION:Maryland State Fairgrounds\, 2200 York Rd\, Lutherville-Timonium\, MD\, 21093
CATEGORIES:Das Best Oktoberfest
ATTACH;FMTTYPE=image/png:https://www.drinkeatrelax.com/wp-content/uploads/2021/11/2a3ac7f9-2f90-4e0d-b059-5a453429afbd.png
ORGANIZER;CN="Drink Eat Relax Events":MAILTO:team@drinkeatrelax.com
GEO:39.4431994;-76.6313495
X-APPLE-STRUCTURED-LOCATION;VALUE=URI;X-ADDRESS=Maryland State Fairgrounds 2200 York Rd Lutherville-Timonium MD 21093;X-APPLE-RADIUS=500;X-TITLE=2200 York Rd:geo:-76.6313495,39.4431994
END:VEVENT
BEGIN:VEVENT
DTSTART;TZID=America/New_York:20261024T160000
DTEND;TZID=America/New_York:20261024T210000
DTSTAMP:20260425T100030
CREATED:20250925T185446Z
LAST-MODIFIED:20260109T155427Z
UID:10000248-1792857600-1792875600@www.drinkeatrelax.com
SUMMARY:Whiskey\, Wine\, & Fire - Charlotte
DESCRIPTION:An Elegant Evening in the Field\nThis exclusive foodie celebration will feature: Whiskey Bars\, Elegant Wines & Cocktails\, Great Music\, Tented Food Stations\, Food Trucks\, & Restaurants and Intimate Firepits throughout. Relax Around the Fire Gardens and enjoy an inspired take on fire-kissed BBQ\, specialty grilling\, and drink pairings. Enjoy the firebreathers and artists set the night ablaze. Please dress appropriately\, the event is outdoors. \nSaturday Twilight VIP Admission\nValid Saturday 4pm – 9pm \nThis Twilight VIP ticket includes a souvenir tasting glass with all-you-care-to-taste sampling of whiskey\, wine\, and other beverages\, early entry into the event with one extra hour of tastings\, a Selection of 4 Tastes from the open-fire Grilling/Meat Stations (all other foods are a la carte)\, a special VIP Area and Washroom\, and all live entertainment. \n**This is Limited to the First 400 Guests** \nSaturday General Admission\nValid Saturday 5pm – 9pm \nThis General Admission ticket includes a souvenir tasting glass with all-you-care-to-taste sampling of whiskey\, wine\, and other beverages\, and all live entertainment. All food is a la carte. \nEntry Only tickets are available onsite only for $25 on the day of the event.
URL:https://www.drinkeatrelax.com/event/whiskey-wine-fire-charlotte-3/
LOCATION:Ballantyne’s Backyard\, 11611 N Community House Rd\, Charlotte\, NC\, 28277\, United States
CATEGORIES:Whiskey Wine & Fire
ATTACH;FMTTYPE=image/jpeg:https://www.drinkeatrelax.com/wp-content/uploads/2021/12/event-header-4.jpg
ORGANIZER;CN="Drink Eat Relax Events":MAILTO:team@drinkeatrelax.com
GEO:35.0602824;-80.8390763
X-APPLE-STRUCTURED-LOCATION;VALUE=URI;X-ADDRESS=Ballantyne’s Backyard 11611 N Community House Rd Charlotte NC 28277 United States;X-APPLE-RADIUS=500;X-TITLE=11611 N Community House Rd:geo:-80.8390763,35.0602824
END:VEVENT
END:VCALENDAR