BEGIN:VCALENDAR
VERSION:2.0
PRODID:-//Drink. Eat. Relax. - ECPv6.15.20//NONSGML v1.0//EN
CALSCALE:GREGORIAN
METHOD:PUBLISH
X-WR-CALNAME:Drink. Eat. Relax.
X-ORIGINAL-URL:https://www.drinkeatrelax.com
X-WR-CALDESC:Events for Drink. Eat. Relax.
REFRESH-INTERVAL;VALUE=DURATION:PT1H
X-Robots-Tag:noindex
X-PUBLISHED-TTL:PT1H
BEGIN:VTIMEZONE
TZID:America/New_York
BEGIN:DAYLIGHT
TZOFFSETFROM:-0500
TZOFFSETTO:-0400
TZNAME:EDT
DTSTART:20250309T070000
END:DAYLIGHT
BEGIN:STANDARD
TZOFFSETFROM:-0400
TZOFFSETTO:-0500
TZNAME:EST
DTSTART:20251102T060000
END:STANDARD
BEGIN:DAYLIGHT
TZOFFSETFROM:-0500
TZOFFSETTO:-0400
TZNAME:EDT
DTSTART:20260308T070000
END:DAYLIGHT
BEGIN:STANDARD
TZOFFSETFROM:-0400
TZOFFSETTO:-0500
TZNAME:EST
DTSTART:20261101T060000
END:STANDARD
BEGIN:DAYLIGHT
TZOFFSETFROM:-0500
TZOFFSETTO:-0400
TZNAME:EDT
DTSTART:20270314T070000
END:DAYLIGHT
BEGIN:STANDARD
TZOFFSETFROM:-0400
TZOFFSETTO:-0500
TZNAME:EST
DTSTART:20271107T060000
END:STANDARD
END:VTIMEZONE
BEGIN:VEVENT
DTSTART;TZID=America/New_York:20260731T180000
DTEND;TZID=America/New_York:20260801T180000
DTSTAMP:20260425T114151
CREATED:20250925T173817Z
LAST-MODIFIED:20260109T154150Z
UID:10000243-1785520800-1785607200@www.drinkeatrelax.com
SUMMARY:Beer\, Bourbon\, & BBQ - Cary
DESCRIPTION:Badass Bone-In BBQ…it’s Time to GO HOG WILD!!\nCary’s Favorite Festival is Back and Better than Ever. Get ready to enjoy all those pleasures that true Southerners live by – Beer\, Bourbon\, Barbeque\, Boots\, Bacon\, Biscuits\, Bluegrass and Smoked Beasts! It’s two great days of beer sippin’\, bourbon tastin’\, music listenin’\, and barbeque eatin’. Your admission buys you a sampling glass so you can enjoy an ALL-YOU-CARE-TO-TASTE sampling of beer and bourbon.\nUnleash Your Beast……. with OVER 60+ BEERS\, 40+ BOURBONS\, AND LOTS OF BARBECUE! \n\nEach Guest Receives a Souvenir Glass to enjoy All You Care To Taste Beer and Bourbon Tastings as you stroll from table to table.\nThe SHRINE OF SWINE is back! Enjoy whole hogs during each session. Pork worship at its finest!\nBBQ Galore! Enjoy the great barbeque selection from our vendors onsite – pulled pork from whole hogs\, ribs\, brisket\, chickens\, sausages and all the fixins’ you can imagine. We’ll keep the portions heavy and the prices low.\nEnjoy seminars in the Tasting Theater with Master Distillers\, Brewmasters\, and Pit Masters from the deep South.\nGAME IT: The Cochon Carnival is loaded with fun activities and games to keep everyone challenged. Connect four\, giant jenga\, cornhole\, and so much more…\nDANCE: Listen To Live Rock & Blues Music on The Main Stage.\nSHOP: Browse Cool Exhibits of Brewerania\, Hot sauces\, BBQ accessories\, Cigars\, and more!\n\nFriday Night VIP Admission\nValid Friday 6pm – 10pm \nThe Friday Night Session offers an exclusive tasting experience where each guest will enjoy a BARBECUE DINNER PLATTER\, a souvenir tasting glass\, unlimited sampling of beer and bourbon\, and all live entertainment. \nFriday Night General Admission\nValid Friday 6pm – 10pm \nThis GA ticket includes a souvenir tasting glass\, unlimited sampling of beer and bourbon\, and all live entertainment. \nSaturday VIP Admission\nValid Saturday 12pm – 6pm \nThe VIP ticket includes 2 extra hours of sampling\, BARBECUE DINNER PLATTER\, a souvenir tasting glass\, unlimited sampling of beer and bourbon\, and live entertainment. \nSaturday General Admission\nValid Saturday 2pm – 6pm \nThis GA ticket includes a souvenir tasting glass\, unlimited sampling of beer and bourbon\, and all live entertainment. \nGrand Poobah – All Access VIP Admission\nValid Friday 6pm – 10pm and Saturday VIP 12pm – 6pm \nThese limited tickets will allow guests to partake in both days and all sessions. In addition to all sessions (if you can truly handle hours and hours of pure liver and artery destruction) these guests will enjoy a GOODIE BAG of SWAG (with t-shirt and more) with admission and EXPRESS ENTRY into the event\, a souvenir tasting glass\, unlimited sampling of beer and bourbon\, A dinner ticket for FRIDAY night\, and all live entertainment. \nDesignated Driver tickets are available onsite only for $25 on the day of the event.
URL:https://www.drinkeatrelax.com/event/beer-bourbon-bbq-cary-2/
LOCATION:Koka Booth Amphitheatre\, 8003 Regency Pkwy\, Cary\, NC\, 27518\, United States
CATEGORIES:Beer, Bourbon, and BBQ Festival
ATTACH;FMTTYPE=image/jpeg:https://www.drinkeatrelax.com/wp-content/uploads/2019/11/DER-site-Event-Listing-Imagecary-bbq.jpg
ORGANIZER;CN="Drink Eat Relax Events":MAILTO:team@drinkeatrelax.com
GEO:35.7292643;-78.7963388
X-APPLE-STRUCTURED-LOCATION;VALUE=URI;X-ADDRESS=Koka Booth Amphitheatre 8003 Regency Pkwy Cary NC 27518 United States;X-APPLE-RADIUS=500;X-TITLE=8003 Regency Pkwy:geo:-78.7963388,35.7292643
END:VEVENT
END:VCALENDAR